BEGIN:VCALENDAR
VERSION:2.0
PRODID:-//Franklin Academy - ECPv6.15.20//NONSGML v1.0//EN
CALSCALE:GREGORIAN
METHOD:PUBLISH
X-WR-CALNAME:Franklin Academy
X-ORIGINAL-URL:https://franklinacademy.org
X-WR-CALDESC:Events for Franklin Academy
REFRESH-INTERVAL;VALUE=DURATION:PT1H
X-Robots-Tag:noindex
X-PUBLISHED-TTL:PT1H
BEGIN:VTIMEZONE
TZID:America/New_York
BEGIN:DAYLIGHT
TZOFFSETFROM:-0500
TZOFFSETTO:-0400
TZNAME:EDT
DTSTART:20250309T070000
END:DAYLIGHT
BEGIN:STANDARD
TZOFFSETFROM:-0400
TZOFFSETTO:-0500
TZNAME:EST
DTSTART:20251102T060000
END:STANDARD
BEGIN:DAYLIGHT
TZOFFSETFROM:-0500
TZOFFSETTO:-0400
TZNAME:EDT
DTSTART:20260308T070000
END:DAYLIGHT
BEGIN:STANDARD
TZOFFSETFROM:-0400
TZOFFSETTO:-0500
TZNAME:EST
DTSTART:20261101T060000
END:STANDARD
BEGIN:DAYLIGHT
TZOFFSETFROM:-0500
TZOFFSETTO:-0400
TZNAME:EDT
DTSTART:20270314T070000
END:DAYLIGHT
BEGIN:STANDARD
TZOFFSETFROM:-0400
TZOFFSETTO:-0500
TZNAME:EST
DTSTART:20271107T060000
END:STANDARD
END:VTIMEZONE
BEGIN:VEVENT
DTSTART;TZID=America/New_York:20260423T160000
DTEND;TZID=America/New_York:20260423T180000
DTSTAMP:20260422T092859
CREATED:20250902T175048Z
LAST-MODIFIED:20250902T175048Z
UID:2194-1776960000-1776967200@franklinacademy.org
SUMMARY:Girls MS Softball vs Grace Christian School
DESCRIPTION:
URL:https://franklinacademy.org/athletic-event/girls-ms-softball-vs-grace-christian-school/
LOCATION:Ailey Young Park\, 800 Juniper Ave\, Wake Forest\, NC\, 27587\, United States
CATEGORIES:Girls Softball
END:VEVENT
BEGIN:VEVENT
DTSTART;TZID=America/New_York:20260427T160000
DTEND;TZID=America/New_York:20260427T170000
DTSTAMP:20260422T092859
CREATED:20251024T163441Z
LAST-MODIFIED:20260112T155908Z
UID:2231-1777305600-1777309200@franklinacademy.org
SUMMARY:Girls MS Softball vs North Raleigh Christian Academy
DESCRIPTION:
URL:https://franklinacademy.org/athletic-event/girls-ms-softball-vs-north-raleigh-christian-academy/
LOCATION:Ailey Young Park\, 800 Juniper Ave\, Wake Forest\, NC\, 27587\, United States
CATEGORIES:Girls Softball
END:VEVENT
BEGIN:VEVENT
DTSTART;TZID=America/New_York:20260429T160000
DTEND;TZID=America/New_York:20260429T170000
DTSTAMP:20260422T092859
CREATED:20251024T165655Z
LAST-MODIFIED:20260417T151846Z
UID:2236-1777478400-1777482000@franklinacademy.org
SUMMARY:Girls MS Softball vs East Wake Academy
DESCRIPTION:
URL:https://franklinacademy.org/athletic-event/girls-ms-softball-vs-east-wake-academy-2/
LOCATION:Ailey Young Park\, 800 Juniper Ave\, Wake Forest\, NC\, 27587\, United States
CATEGORIES:Girls Softball
END:VEVENT
END:VCALENDAR